BEGIN:VCALENDAR
VERSION:2.0
PRODID:-//Wharton County 4-H - ECPv6.15.20//NONSGML v1.0//EN
CALSCALE:GREGORIAN
METHOD:PUBLISH
X-WR-CALNAME:Wharton County 4-H
X-ORIGINAL-URL:https://agrilife.org/wharton4h
X-WR-CALDESC:Events for Wharton County 4-H
REFRESH-INTERVAL;VALUE=DURATION:PT1H
X-Robots-Tag:noindex
X-PUBLISHED-TTL:PT1H
BEGIN:VTIMEZONE
TZID:America/New_York
BEGIN:DAYLIGHT
TZOFFSETFROM:-0500
TZOFFSETTO:-0400
TZNAME:EDT
DTSTART:20210314T070000
END:DAYLIGHT
BEGIN:STANDARD
TZOFFSETFROM:-0400
TZOFFSETTO:-0500
TZNAME:EST
DTSTART:20211107T060000
END:STANDARD
BEGIN:DAYLIGHT
TZOFFSETFROM:-0500
TZOFFSETTO:-0400
TZNAME:EDT
DTSTART:20220313T070000
END:DAYLIGHT
BEGIN:STANDARD
TZOFFSETFROM:-0400
TZOFFSETTO:-0500
TZNAME:EST
DTSTART:20221106T060000
END:STANDARD
BEGIN:DAYLIGHT
TZOFFSETFROM:-0500
TZOFFSETTO:-0400
TZNAME:EDT
DTSTART:20230312T070000
END:DAYLIGHT
BEGIN:STANDARD
TZOFFSETFROM:-0400
TZOFFSETTO:-0500
TZNAME:EST
DTSTART:20231105T060000
END:STANDARD
END:VTIMEZONE
BEGIN:VEVENT
DTSTART;VALUE=DATE:20221030
DTEND;VALUE=DATE:20221031
DTSTAMP:20260419T230550
CREATED:20220912T195857Z
LAST-MODIFIED:20220912T200807Z
UID:6300-1667088000-1667174399@agrilife.org
SUMMARY:County Food Challenge
DESCRIPTION:Date: October 30\, 2022\nLocation: TBA\nRegistration Forms Due October 10\, 2022\nRegistration Fee: $10 per team member \nClick here to download the 2022 County Food Challenge Registration Form \n  \nAt the Food Challenge\, teams of 3-4 students receive a list of ingredients and have 40 minutes to create a dish. The teams then present their dish to judges are scored on preparation\, serving size\, food safety concerns\, nutritional value and cost. Students qualify at the country and district level to compete at the state contest. Review all the rules in the Food Challenge Manual. \nEach team will have at least three and no more than four members.
URL:https://agrilife.org/wharton4h/event/county-food-challenge/
CATEGORIES:County
ORGANIZER;CN="Laura Reyna":MAILTO:lereyna@ag.tamu.edu
END:VEVENT
END:VCALENDAR