BEGIN:VCALENDAR
VERSION:2.0
PRODID:-//Fort Bend 4-H - ECPv6.15.20//NONSGML v1.0//EN
CALSCALE:GREGORIAN
METHOD:PUBLISH
X-WR-CALNAME:Fort Bend 4-H
X-ORIGINAL-URL:https://agrilife.org/ftbend4h
X-WR-CALDESC:Events for Fort Bend 4-H
REFRESH-INTERVAL;VALUE=DURATION:PT1H
X-Robots-Tag:noindex
X-PUBLISHED-TTL:PT1H
BEGIN:VTIMEZONE
TZID:America/Chicago
BEGIN:DAYLIGHT
TZOFFSETFROM:-0600
TZOFFSETTO:-0500
TZNAME:CDT
DTSTART:20200308T080000
END:DAYLIGHT
BEGIN:STANDARD
TZOFFSETFROM:-0500
TZOFFSETTO:-0600
TZNAME:CST
DTSTART:20201101T070000
END:STANDARD
BEGIN:DAYLIGHT
TZOFFSETFROM:-0600
TZOFFSETTO:-0500
TZNAME:CDT
DTSTART:20210314T080000
END:DAYLIGHT
BEGIN:STANDARD
TZOFFSETFROM:-0500
TZOFFSETTO:-0600
TZNAME:CST
DTSTART:20211107T070000
END:STANDARD
BEGIN:DAYLIGHT
TZOFFSETFROM:-0600
TZOFFSETTO:-0500
TZNAME:CDT
DTSTART:20220313T080000
END:DAYLIGHT
BEGIN:STANDARD
TZOFFSETFROM:-0500
TZOFFSETTO:-0600
TZNAME:CST
DTSTART:20221106T070000
END:STANDARD
END:VTIMEZONE
BEGIN:VEVENT
DTSTART;TZID=America/Chicago:20210316T190000
DTEND;TZID=America/Chicago:20210316T200000
DTSTAMP:20260422T061749
CREATED:20210223T215136Z
LAST-MODIFIED:20210304T211902Z
UID:8890-1615921200-1615924800@agrilife.org
SUMMARY:Veterinary Science Meeting via Teams
DESCRIPTION:
URL:https://agrilife.org/ftbend4h/event/veterinary-science-meeting-via-teams/
LOCATION:Virtual
END:VEVENT
BEGIN:VEVENT
DTSTART;TZID=America/Chicago:20210317T170000
DTEND;TZID=America/Chicago:20210317T170000
DTSTAMP:20260422T061749
CREATED:20210224T145054Z
LAST-MODIFIED:20210224T145054Z
UID:8911-1616000400-1616000400@agrilife.org
SUMMARY:D9 Horse Judging Registration DEADLINE
DESCRIPTION:Horse Judging
URL:https://agrilife.org/ftbend4h/event/d9-horse-judging-registration-deadline/
END:VEVENT
BEGIN:VEVENT
DTSTART;TZID=America/Chicago:20210318T190000
DTEND;TZID=America/Chicago:20210318T200000
DTSTAMP:20260422T061749
CREATED:20210223T215214Z
LAST-MODIFIED:20210304T212102Z
UID:8892-1616094000-1616097600@agrilife.org
SUMMARY:County Council Meeting via Teams
DESCRIPTION:
URL:https://agrilife.org/ftbend4h/event/county-council-meeting-9/
LOCATION:Virtual
END:VEVENT
BEGIN:VEVENT
DTSTART;TZID=America/Chicago:20210319T170000
DTEND;TZID=America/Chicago:20210319T170000
DTSTAMP:20260422T061749
CREATED:20210309T175444Z
LAST-MODIFIED:20210309T175444Z
UID:9028-1616173200-1616173200@agrilife.org
SUMMARY:North Texas Whiz Bang Registration DEADLINE
DESCRIPTION:
URL:https://agrilife.org/ftbend4h/event/north-texas-whiz-bang-registration-deadline/
END:VEVENT
BEGIN:VEVENT
DTSTART;TZID=America/Chicago:20210323T170000
DTEND;TZID=America/Chicago:20210323T170000
DTSTAMP:20260422T061749
CREATED:20210224T202328Z
LAST-MODIFIED:20210224T202328Z
UID:8941-1616518800-1616518800@agrilife.org
SUMMARY:Deadline for Updated Transcript for Texas 4-H Opportunity Scholarship
DESCRIPTION:
URL:https://agrilife.org/ftbend4h/event/deadline-for-updated-transcript-for-texas-4-h-opportunity-scholarship/
END:VEVENT
BEGIN:VEVENT
DTSTART;TZID=America/Chicago:20210324T170000
DTEND;TZID=America/Chicago:20210324T170000
DTSTAMP:20260422T061749
CREATED:20210224T152459Z
LAST-MODIFIED:20210224T152459Z
UID:8922-1616605200-1616605200@agrilife.org
SUMMARY:D9 Photography Contest Entry DEADLINE
DESCRIPTION:Photography Contest
URL:https://agrilife.org/ftbend4h/event/d9-photography-contest-entry-deadline-2/
END:VEVENT
BEGIN:VEVENT
DTSTART;TZID=America/Chicago:20210324T170000
DTEND;TZID=America/Chicago:20210324T170000
DTSTAMP:20260422T061749
CREATED:20210224T153013Z
LAST-MODIFIED:20210224T153013Z
UID:8924-1616605200-1616605200@agrilife.org
SUMMARY:Big Time in D9 Registration DEADLINE
DESCRIPTION:Big Time in D9 – Roundup 2026
URL:https://agrilife.org/ftbend4h/event/big-time-in-d9-registration-deadline-4/
END:VEVENT
BEGIN:VEVENT
DTSTART;TZID=America/Chicago:20210325T183000
DTEND;TZID=America/Chicago:20210325T200000
DTSTAMP:20260422T061749
CREATED:20210223T215252Z
LAST-MODIFIED:20210304T211800Z
UID:8894-1616697000-1616702400@agrilife.org
SUMMARY:Parliamentary Procedure Meeting
DESCRIPTION:
URL:https://agrilife.org/ftbend4h/event/parliamentary-procedure-meeting/
END:VEVENT
BEGIN:VEVENT
DTSTART;TZID=America/Chicago:20210327T080000
DTEND;TZID=America/Chicago:20210327T170000
DTSTAMP:20260422T061749
CREATED:20210223T215804Z
LAST-MODIFIED:20210223T215804Z
UID:8900-1616832000-1616864400@agrilife.org
SUMMARY:D12 4-H Trap\, Skeet and Whiz Bang Shoot
DESCRIPTION:
URL:https://agrilife.org/ftbend4h/event/d12-4-h-trap-skeet-and-whiz-bang-shoot/
END:VEVENT
BEGIN:VEVENT
DTSTART;TZID=America/Chicago:20210329T170000
DTEND;TZID=America/Chicago:20210329T170000
DTSTAMP:20260422T061749
CREATED:20210326T150718Z
LAST-MODIFIED:20210326T150718Z
UID:9151-1617037200-1617037200@agrilife.org
SUMMARY:4-H At-Home Garden Series Self-Paced through YouTube Registration DEADLINE
DESCRIPTION:March 16th – March 29th – 4-H At-Home Garden Series Self-Paced through Youtube Register Here: https://pvamu.co1.qualtrics.com/jfe/form/SV_2mhK0JVkRNZqcvQ
URL:https://agrilife.org/ftbend4h/event/4-h-at-home-garden-series-self-paced-through-youtube-registration-deadline/
END:VEVENT
BEGIN:VEVENT
DTSTART;TZID=America/Chicago:20210331T170000
DTEND;TZID=America/Chicago:20210331T170000
DTSTAMP:20260422T061749
CREATED:20210224T151545Z
LAST-MODIFIED:20210224T151545Z
UID:8916-1617210000-1617210000@agrilife.org
SUMMARY:D9 Livestock\, Meats and Soil Judging Registration DEADLINE
DESCRIPTION:Livestock Judging: https://d94-h.tamu.edu/eventsandcontests/livestock-judging/ \nMeats Judging: https://d94-h.tamu.edu/eventsandcontests/meats-identification-and-evaluation/ \nSoil Judging: https://d94-h.tamu.edu/eventsandcontests/soil-judging/
URL:https://agrilife.org/ftbend4h/event/d9-livestock-meats-and-soil-judging-registration-deadline/
END:VEVENT
BEGIN:VEVENT
DTSTART;TZID=America/Chicago:20210331T170000
DTEND;TZID=America/Chicago:20210331T170000
DTSTAMP:20260422T061749
CREATED:20210224T151952Z
LAST-MODIFIED:20210224T151952Z
UID:8920-1617210000-1617210000@agrilife.org
SUMMARY:D9 Rifle\, Pistol and Air Pistol Registration DEADLINE
DESCRIPTION:https://d94-h.tamu.edu/eventsandcontests/shooting-sports/
URL:https://agrilife.org/ftbend4h/event/d9-rifle-pistol-and-air-pistol-registration-deadline/
END:VEVENT
BEGIN:VEVENT
DTSTART;TZID=America/Chicago:20210331T170000
DTEND;TZID=America/Chicago:20210331T170000
DTSTAMP:20260422T061749
CREATED:20210224T165319Z
LAST-MODIFIED:20210224T165319Z
UID:8939-1617210000-1617210000@agrilife.org
SUMMARY:Invisalign ChangeMakers Application DEADLINE
DESCRIPTION:Application Deadline for Invisalign ChangeMakers https://www.invisalign.com/changemakers?_cldee=Zm9ydGJlbmRAYWcudGFtdS5lZHU%3d&recipientid=contact-8e2b21aa08ebe911910a001dd8b71c7f-e80f10a12a544c3eb5d4b9d3c72f7f8e&esid=6236e591-f06a-eb11-90fd-00155dcb343a
URL:https://agrilife.org/ftbend4h/event/invisalign-changemakers-application-deadline/
END:VEVENT
BEGIN:VEVENT
DTSTART;TZID=America/Chicago:20210402T080000
DTEND;TZID=America/Chicago:20210402T170000
DTSTAMP:20260422T061749
CREATED:20201030T153627Z
LAST-MODIFIED:20201030T153627Z
UID:8231-1617350400-1617382800@agrilife.org
SUMMARY:Good Friday (OFFICE CLOSED)
DESCRIPTION:
URL:https://agrilife.org/ftbend4h/event/good-friday-office-closed/
LOCATION:Fort Bend County Extension Office\, 1402 Band Road\, Ste. 100\, Rosenberg\, TX\, 77471\, United States
END:VEVENT
BEGIN:VEVENT
DTSTART;TZID=America/Chicago:20210405T080000
DTEND;TZID=America/Chicago:20210426T170000
DTSTAMP:20260422T061749
CREATED:20210326T150754Z
LAST-MODIFIED:20210326T150754Z
UID:9154-1617609600-1619456400@agrilife.org
SUMMARY:4-H At-Home Garden Series Self-Paced through YouTube
DESCRIPTION:March 16th – March 29th – 4-H At-Home Garden Series Self-Paced through Youtube Register Here: https://pvamu.co1.qualtrics.com/jfe/form/SV_2mhK0JVkRNZqcvQ
URL:https://agrilife.org/ftbend4h/event/4-h-at-home-garden-series-self-paced-through-youtube/
END:VEVENT
BEGIN:VEVENT
DTSTART;TZID=America/Chicago:20210406T180000
DTEND;TZID=America/Chicago:20210407T140000
DTSTAMP:20260422T061749
CREATED:20210401T204635Z
LAST-MODIFIED:20210401T204635Z
UID:9203-1617732000-1617804000@agrilife.org
SUMMARY:Explore Archery
DESCRIPTION:Explore Archery registration is through us: https://longacresranch.org/news_and_events/ \nRegistrants click on the day/time that they would like to register for and then “Event Website”
URL:https://agrilife.org/ftbend4h/event/explore-archery/
END:VEVENT
BEGIN:VEVENT
DTSTART;TZID=America/Chicago:20210406T183000
DTEND;TZID=America/Chicago:20210406T200000
DTSTAMP:20260422T061749
CREATED:20210211T212150Z
LAST-MODIFIED:20210309T175106Z
UID:8858-1617733800-1617739200@agrilife.org
SUMMARY:Recordbook Revision Night
DESCRIPTION:
URL:https://agrilife.org/ftbend4h/event/recordbook-revision-night-4/
END:VEVENT
BEGIN:VEVENT
DTSTART;TZID=America/Chicago:20210407T170000
DTEND;TZID=America/Chicago:20210407T170000
DTSTAMP:20260422T061749
CREATED:20210407T211948Z
LAST-MODIFIED:20210407T211948Z
UID:9221-1617814800-1617814800@agrilife.org
SUMMARY:Shooting Sports Extravaganza Registration DEADLINE
DESCRIPTION:Register through 4-H Online
URL:https://agrilife.org/ftbend4h/event/shooting-sports-extravaganza-registration-deadline/
END:VEVENT
BEGIN:VEVENT
DTSTART;TZID=America/Chicago:20210408T170000
DTEND;TZID=America/Chicago:20210408T170000
DTSTAMP:20260422T061749
CREATED:20210304T214029Z
LAST-MODIFIED:20210304T221656Z
UID:9012-1617901200-1617901200@agrilife.org
SUMMARY:D5 Bass Fishing Tournament Registration DEADLINE
DESCRIPTION:For More information: https://agrilife.org/ftbend4h/files/2021/02/2021-Virtual-Fishing-Bass-Rules-of-Play-FINAL.pdf and https://agrilife.org/ftbend4h/files/2021/02/2021-Virtual-Fishing-Bass-Tournament-Card.pdf \n\nMarch 1st – April 8th – Registration Open for District 5 Bass Fishing Tournament (See Attachment) \nApril 10th – District 5 Bass Fishing Tournament\nApril 12th – 16th – Registration Open for April 17th District 5 Bass Fishing Tournament\nApril 17th – District 5 Bass Fishing Tournament\nApril 19th – 23rd – Registration Open for April 24th District 5 Bass Fishing Tournament\nApril 24th – District 5 Bass Fishing Tournament\n\n 
URL:https://agrilife.org/ftbend4h/event/d5-bass-fishing-tournament-registration-deadline/
END:VEVENT
BEGIN:VEVENT
DTSTART;TZID=America/Chicago:20210409T120000
DTEND;TZID=America/Chicago:20210409T120000
DTSTAMP:20260422T061749
CREATED:20210325T190932Z
LAST-MODIFIED:20210325T201202Z
UID:9148-1617969600-1617969600@agrilife.org
SUMMARY:2021 Aggie Youth Meat Judging Clinic Registration DEADLINE
DESCRIPTION:Click here for more information! \nSince this year’s judging clinics are not able to happen\, Drs. Hale and Griffin have prepared a virtual Meat Judging workshop for 4-H and FFA members.  Registration is $15 per viewing device and you may register at the following link: https://www.judgingcard.com/Registration/Info.aspx?ID=12411 Registration closes at 12noon on Friday April 9. No refunds after this time. Registrations must be made via an FFA Chapter account or a County Extension account (via county office).
URL:https://agrilife.org/ftbend4h/event/2021-aggie-youth-meat-judging-clinic-registration-deadline/
END:VEVENT
BEGIN:VEVENT
DTSTART;TZID=America/Chicago:20210410T080000
DTEND;TZID=America/Chicago:20210410T120000
DTSTAMP:20260422T061749
CREATED:20210325T190848Z
LAST-MODIFIED:20210325T190848Z
UID:9145-1618041600-1618056000@agrilife.org
SUMMARY:2021 Aggie Youth Virtual Meat Judging Clinic
DESCRIPTION:Click here for more information! \nSince this year’s judging clinics are not able to happen\, Drs. Hale and Griffin have prepared a virtual Meat Judging workshop for 4-H and FFA members.  Registration is $15 per viewing device and you may register at the following link: https://www.judgingcard.com/Registration/Info.aspx?ID=12411 Registration closes at 12noon on Friday April 9. No refunds after this time. Registrations must be made via an FFA Chapter account or a County Extension account (via county office).
URL:https://agrilife.org/ftbend4h/event/2021-aggie-youth-virtual-meat-judging-clinic/
END:VEVENT
BEGIN:VEVENT
DTSTART;TZID=America/Chicago:20210410T080000
DTEND;TZID=America/Chicago:20210414T170000
DTSTAMP:20260422T061749
CREATED:20210222T223407Z
LAST-MODIFIED:20210304T211217Z
UID:8886-1618041600-1618419600@agrilife.org
SUMMARY:National 4-H Conference
DESCRIPTION:https://4-h.org/parents/national-4-h-conference/
URL:https://agrilife.org/ftbend4h/event/national-4-h-conference/
END:VEVENT
BEGIN:VEVENT
DTSTART;TZID=America/Chicago:20210411T080000
DTEND;TZID=America/Chicago:20210411T170000
DTSTAMP:20260422T061749
CREATED:20210401T204526Z
LAST-MODIFIED:20210401T204526Z
UID:9199-1618128000-1618160400@agrilife.org
SUMMARY:Hunters Education Course
DESCRIPTION:Hunter Ed registration is through TPWD: https://tpwd.elementlms.com/course/hunter-education-classroom-course-5840/
URL:https://agrilife.org/ftbend4h/event/hunters-education-course/
END:VEVENT
BEGIN:VEVENT
DTSTART;TZID=America/Chicago:20210413T183000
DTEND;TZID=America/Chicago:20210413T193000
DTSTAMP:20260422T061749
CREATED:20210407T211549Z
LAST-MODIFIED:20210407T211549Z
UID:9213-1618338600-1618342200@agrilife.org
SUMMARY:FBCFA Jr. Livestock Committee Volunteers
DESCRIPTION:
URL:https://agrilife.org/ftbend4h/event/fbcfa-jr-livestock-committee-volunteers/
END:VEVENT
BEGIN:VEVENT
DTSTART;TZID=America/Chicago:20210414T170000
DTEND;TZID=America/Chicago:20210414T170000
DTSTAMP:20260422T061749
CREATED:20210416T211235Z
LAST-MODIFIED:20210416T211235Z
UID:9278-1618419600-1618419600@agrilife.org
SUMMARY:Eligibility Forms DUE for D9 Horse Judging
DESCRIPTION:Eligibility Form (request form here)
URL:https://agrilife.org/ftbend4h/event/eligibility-forms-due-for-d9-horse-judging/
END:VEVENT
BEGIN:VEVENT
DTSTART;TZID=America/Chicago:20210415T160000
DTEND;TZID=America/Chicago:20210415T200000
DTSTAMP:20260422T061749
CREATED:20210407T211653Z
LAST-MODIFIED:20210407T211653Z
UID:9216-1618502400-1618516800@agrilife.org
SUMMARY:Spirit Night - Chick-Fil-A Rosenberg
DESCRIPTION:
URL:https://agrilife.org/ftbend4h/event/spirit-night-chick-fil-a-rosenberg/
END:VEVENT
BEGIN:VEVENT
DTSTART;TZID=America/Chicago:20210415T170000
DTEND;TZID=America/Chicago:20210415T170000
DTSTAMP:20260422T061749
CREATED:20210308T221108Z
LAST-MODIFIED:20210308T221108Z
UID:9016-1618506000-1618506000@agrilife.org
SUMMARY:Horse Validation EARLY ($10) DEADLINE
DESCRIPTION:4-H horse validation is now open on 4-H Connect.  Horse validation will be open from March 1st through May 1st and the cost will again be $10 per horse through April 15th and $20 per horse from April 16th through May 1st.  The updated 4-H connect will only be accepting credit cards for payment. \nA few reminders: \n\nEach validation must include front view\, right side view\, and left side view images.  The entire horse should be included in the photo and marking should be clearly visible.\nIf the horse is registered\, a copy of the registration papers must be uploaded.  These papers must list the 4-Her\, parent\, sibling\, grandparent or legal guardian as the current owner.  If the ownership is in the process of being transferred\, please list “pending” in the registration number area.  Once the updated registration papers have been received please let the agent know.\nUploads must be images\, pdfs are not an accepted file type.\nFamilies should validate each horse once.  Once the horse is validated any sibling within that family is eligible to show the horse at district and/or state 4-H horse show.\nYouth validating a futurity horse must be at least 4-H age 12 (as of Sept. 1\, 2020) and in at least the 6th grade.\n\nCLICK HERE to view instructions on validating! 
URL:https://agrilife.org/ftbend4h/event/horse-validation-early-10-deadline/
END:VEVENT
BEGIN:VEVENT
DTSTART;TZID=America/Chicago:20210415T170000
DTEND;TZID=America/Chicago:20210415T170000
DTSTAMP:20260422T061749
CREATED:20210407T212103Z
LAST-MODIFIED:20210407T212103Z
UID:9223-1618506000-1618506000@agrilife.org
SUMMARY:Texas 4-H State Photography Registration DEADLINE
DESCRIPTION:Registration Deadline Texas 4-H State Photography by 11:59 PM http://texas4h.wpengine.com/wp-content/uploads/20-21_Photography_Rules-1.pdf
URL:https://agrilife.org/ftbend4h/event/texas-4-h-state-photography-registration-deadline/
END:VEVENT
BEGIN:VEVENT
DTSTART;TZID=America/Chicago:20210415T190000
DTEND;TZID=America/Chicago:20210415T200000
DTSTAMP:20260422T061749
CREATED:20210406T215050Z
LAST-MODIFIED:20210412T213146Z
UID:9207-1618513200-1618516800@agrilife.org
SUMMARY:County Council Meeting
DESCRIPTION:
URL:https://agrilife.org/ftbend4h/event/county-council-meeting-10/
END:VEVENT
BEGIN:VEVENT
DTSTART;TZID=America/Chicago:20210416T080000
DTEND;TZID=America/Chicago:20210417T170000
DTSTAMP:20260422T061749
CREATED:20210407T212351Z
LAST-MODIFIED:20210407T212351Z
UID:9225-1618560000-1618678800@agrilife.org
SUMMARY:4-H and Open Horse Show - Taylor County
DESCRIPTION:
URL:https://agrilife.org/ftbend4h/event/4-h-and-open-horse-show-taylor-county/
END:VEVENT
END:VCALENDAR