BEGIN:VCALENDAR
VERSION:2.0
PRODID:-//Fort Bend 4-H - ECPv6.15.20//NONSGML v1.0//EN
CALSCALE:GREGORIAN
METHOD:PUBLISH
X-WR-CALNAME:Fort Bend 4-H
X-ORIGINAL-URL:https://agrilife.org/ftbend4h
X-WR-CALDESC:Events for Fort Bend 4-H
REFRESH-INTERVAL;VALUE=DURATION:PT1H
X-Robots-Tag:noindex
X-PUBLISHED-TTL:PT1H
BEGIN:VTIMEZONE
TZID:America/Chicago
BEGIN:DAYLIGHT
TZOFFSETFROM:-0600
TZOFFSETTO:-0500
TZNAME:CDT
DTSTART:20210314T080000
END:DAYLIGHT
BEGIN:STANDARD
TZOFFSETFROM:-0500
TZOFFSETTO:-0600
TZNAME:CST
DTSTART:20211107T070000
END:STANDARD
BEGIN:DAYLIGHT
TZOFFSETFROM:-0600
TZOFFSETTO:-0500
TZNAME:CDT
DTSTART:20220313T080000
END:DAYLIGHT
BEGIN:STANDARD
TZOFFSETFROM:-0500
TZOFFSETTO:-0600
TZNAME:CST
DTSTART:20221106T070000
END:STANDARD
BEGIN:DAYLIGHT
TZOFFSETFROM:-0600
TZOFFSETTO:-0500
TZNAME:CDT
DTSTART:20230312T080000
END:DAYLIGHT
BEGIN:STANDARD
TZOFFSETFROM:-0500
TZOFFSETTO:-0600
TZNAME:CST
DTSTART:20231105T070000
END:STANDARD
BEGIN:DAYLIGHT
TZOFFSETFROM:-0600
TZOFFSETTO:-0500
TZNAME:CDT
DTSTART:20240310T080000
END:DAYLIGHT
BEGIN:STANDARD
TZOFFSETFROM:-0500
TZOFFSETTO:-0600
TZNAME:CST
DTSTART:20241103T070000
END:STANDARD
END:VTIMEZONE
BEGIN:VEVENT
DTSTART;VALUE=DATE:20221030
DTEND;VALUE=DATE:20221031
DTSTAMP:20260421T093903
CREATED:20220926T185834Z
LAST-MODIFIED:20220926T185834Z
UID:13251-1667088000-1667174399@agrilife.org
SUMMARY:Registration Deadline 4-H Hunting Project Coach Training
DESCRIPTION:Register at https://v2.4honline.com/#/user/sign-in for the 4-H Hunting Project Coach Training
URL:https://agrilife.org/ftbend4h/event/registration-deadline-4-h-hunting-project-coach-training/
END:VEVENT
BEGIN:VEVENT
DTSTART;VALUE=DATE:20221101
DTEND;VALUE=DATE:20221102
DTSTAMP:20260421T093903
CREATED:20221010T190940Z
LAST-MODIFIED:20221010T191607Z
UID:13316-1667260800-1667347199@agrilife.org
SUMMARY:Capital Farm Credit Community Outreach Grant Application Deadline
DESCRIPTION:Capital Farm Credit’s Community Outreach Grant Program provides grants to Texas FFA chapters and 4-H clubs to assist them in bringing positive change to local communities by establishing projects that make communities better places to live. Grants range from $500-$1000; dependent on the proposed budget of the chapter. Applications are NOW Open! Applications Close: Tuesday\, November 1\, 2022. For questions regarding the grant program please contact grants@capitalfarmcredit.com. \nApply online at https://www.capitalfarmcredit.com/about-us/community-support 
URL:https://agrilife.org/ftbend4h/event/capital-farm-credit-community-outreach-grant-application-deadline/
END:VEVENT
BEGIN:VEVENT
DTSTART;TZID=America/Chicago:20221101T080000
DTEND;TZID=America/Chicago:20221118T170000
DTSTAMP:20260421T093903
CREATED:20221017T180612Z
LAST-MODIFIED:20221017T180612Z
UID:13332-1667289600-1668790800@agrilife.org
SUMMARY:Fort Bend County 4-H County Roundup Registration OPEN
DESCRIPTION:Details Coming Soon!!
URL:https://agrilife.org/ftbend4h/event/fort-bend-county-4-h-county-roundup-registration-open/
END:VEVENT
BEGIN:VEVENT
DTSTART;TZID=America/Chicago:20221101T080000
DTEND;TZID=America/Chicago:20230215T170000
DTSTAMP:20260421T093903
CREATED:20221031T181821Z
LAST-MODIFIED:20221031T181821Z
UID:13371-1667289600-1676480400@agrilife.org
SUMMARY:Texas 4-H Scholarship Application Opens
DESCRIPTION:The Texas 4-H Scholarship opens on November 1st. This scholarship is open to students who wish to pursue a Bachelor of Science or Bachelor of Arts degree from an accredited Texas college or university. Below are important dates to make note of.  \n2022 Texas 4-H Foundation Opportunity Scholarship Important Dates: \n– November 1\, 2022 – Application will be available online \n– February 15\, 2023\, by 11:59 PM – Deadline to Apply \n– April 28 – April 30\, 2023 – Interviews in College Station \n– May 2023 – Award Notifications \n– June 6-8\, 2023 – Scholarship Banquets in College Station \nApply at https://www.grantinterface.com/Home/Logon?urlkey=tamu
URL:https://agrilife.org/ftbend4h/event/texas-4-h-scholarship-application-opens/
END:VEVENT
BEGIN:VEVENT
DTSTART;VALUE=DATE:20221107
DTEND;VALUE=DATE:20221108
DTSTAMP:20260421T093903
CREATED:20221024T191725Z
LAST-MODIFIED:20221024T191814Z
UID:13342-1667779200-1667865599@agrilife.org
SUMMARY:Deadline to Register for Central Texas 4-H Invitational Consumer Contest
DESCRIPTION:Register at https://counties.agrilife.org/mc4h/4-h-projects/consumer-decision-making/ by November 7th!
URL:https://agrilife.org/ftbend4h/event/deadline-to-register-for-central-texas-4-h-invitational-consumer-contest/
END:VEVENT
BEGIN:VEVENT
DTSTART;TZID=America/Chicago:20221107T160000
DTEND;TZID=America/Chicago:20221107T200000
DTSTAMP:20260421T093903
CREATED:20220926T201729Z
LAST-MODIFIED:20220926T201729Z
UID:13289-1667836800-1667851200@agrilife.org
SUMMARY:Major Show Entry Night
DESCRIPTION:Major Show Entry Night at Fort Bend County Extension Office 4 PM – 8 PM
URL:https://agrilife.org/ftbend4h/event/major-show-entry-night/
LOCATION:Fort Bend County Extension Office\, 1402 Band Road\, Ste. 100\, Rosenberg\, TX\, 77471\, United States
END:VEVENT
BEGIN:VEVENT
DTSTART;TZID=America/Chicago:20221111T080000
DTEND;TZID=America/Chicago:20221111T170000
DTSTAMP:20260421T093903
CREATED:20211229T164013Z
LAST-MODIFIED:20211229T164013Z
UID:11594-1668153600-1668186000@agrilife.org
SUMMARY:OFFICE CLOSED - Veterans Day
DESCRIPTION:
URL:https://agrilife.org/ftbend4h/event/office-closed-veterans-day/
END:VEVENT
BEGIN:VEVENT
DTSTART;TZID=America/Chicago:20221111T080000
DTEND;TZID=America/Chicago:20221112T170000
DTSTAMP:20260421T093903
CREATED:20220926T191539Z
LAST-MODIFIED:20220926T191539Z
UID:13261-1668153600-1668272400@agrilife.org
SUMMARY:D9 4-H Junior Leadership Lab
DESCRIPTION:For more information on D-9 4-H Leadership Lab\, visit https://d94-h.tamu.edu/eventsandcontests/junior-leadership-lab/
URL:https://agrilife.org/ftbend4h/event/d9-4-h-junior-leadership-lab/
END:VEVENT
BEGIN:VEVENT
DTSTART;TZID=America/Chicago:20221111T080000
DTEND;TZID=America/Chicago:20221113T170000
DTSTAMP:20260421T093903
CREATED:20220926T184906Z
LAST-MODIFIED:20220926T184906Z
UID:13247-1668153600-1668358800@agrilife.org
SUMMARY:4-H Spark (formerly known as JLR)
DESCRIPTION:Registration for this event CLOSED October 21\, 2022
URL:https://agrilife.org/ftbend4h/event/4-h-spark-formerly-known-as-jlr/
END:VEVENT
BEGIN:VEVENT
DTSTART;TZID=America/Chicago:20221112T080000
DTEND;TZID=America/Chicago:20221113T170000
DTSTAMP:20260421T093903
CREATED:20220926T190645Z
LAST-MODIFIED:20220926T190645Z
UID:13259-1668240000-1668358800@agrilife.org
SUMMARY:4-H Hunting Project Coach Training
DESCRIPTION:Registration for this event is CLOSED
URL:https://agrilife.org/ftbend4h/event/4-h-hunting-project-coach-training-3/
END:VEVENT
BEGIN:VEVENT
DTSTART;TZID=America/Chicago:20221114T183000
DTEND;TZID=America/Chicago:20221114T203000
DTSTAMP:20260421T093903
CREATED:20221031T192332Z
LAST-MODIFIED:20221031T192332Z
UID:13375-1668450600-1668457800@agrilife.org
SUMMARY:Livestock Coalition Meeting
DESCRIPTION:Join us for our monthly Livestock Coalition Meeting November 14\, 2022!
URL:https://agrilife.org/ftbend4h/event/livestock-coalition-meeting-5/
LOCATION:Fort Bend County Extension Office\, 1402 Band Road\, Ste. 100\, Rosenberg\, TX\, 77471\, United States
END:VEVENT
BEGIN:VEVENT
DTSTART;TZID=America/Chicago:20221116T160000
DTEND;TZID=America/Chicago:20221116T190000
DTSTAMP:20260421T093903
CREATED:20221031T193744Z
LAST-MODIFIED:20221031T193744Z
UID:13379-1668614400-1668625200@agrilife.org
SUMMARY:Swine Validation
DESCRIPTION:Swine Validation from 4:00 PM – 7:00 PM at the Fort Bend County Fairgrounds
URL:https://agrilife.org/ftbend4h/event/swine-validation/
LOCATION:Fort Bend County Fairgrounds\, 4310 Hwy 36 South\, Rosenberg\, TX\, 77471\, United States
END:VEVENT
BEGIN:VEVENT
DTSTART;TZID=America/Chicago:20221117T080000
DTEND;TZID=America/Chicago:20221117T160000
DTSTAMP:20260421T093903
CREATED:20220926T201901Z
LAST-MODIFIED:20220926T201901Z
UID:13291-1668672000-1668700800@agrilife.org
SUMMARY:Christmas Pecan Fundraiser Deadline
DESCRIPTION:
URL:https://agrilife.org/ftbend4h/event/christmas-pecan-fundraiser-deadline/
LOCATION:Fort Bend County Extension Office\, 1402 Band Road\, Ste. 100\, Rosenberg\, TX\, 77471\, United States
END:VEVENT
BEGIN:VEVENT
DTSTART;TZID=America/Chicago:20221118T080000
DTEND;TZID=America/Chicago:20221118T170000
DTSTAMP:20260421T093903
CREATED:20221107T210324Z
LAST-MODIFIED:20221107T210417Z
UID:13428-1668758400-1668790800@agrilife.org
SUMMARY:Registration Deadline for Outdoor Skills Day
DESCRIPTION:Deadline to Register for Outdoor Skills Day https://agrilife.org/ftbend4h/beyond-the-project/workshops-clinics-camps/
URL:https://agrilife.org/ftbend4h/event/registration-deadline-for-outdoor-skills-day/
LOCATION:Long Acres Ranch\, 2317 Williams Way Blvd.\, Richmond\, TX\, 77469\, United States
END:VEVENT
BEGIN:VEVENT
DTSTART;VALUE=DATE:20221119
DTEND;VALUE=DATE:20221120
DTSTAMP:20260421T093903
CREATED:20220926T202030Z
LAST-MODIFIED:20221101T203115Z
UID:13294-1668816000-1668902399@agrilife.org
SUMMARY:Outdoor Skills Day
DESCRIPTION:CLICK HERE to Register!!!
URL:https://agrilife.org/ftbend4h/event/outdoor-skills-day-2/
LOCATION:Long Acres Ranch\, 2317 Williams Way Blvd.\, Richmond\, TX\, 77469\, United States
END:VEVENT
BEGIN:VEVENT
DTSTART;VALUE=DATE:20221119
DTEND;VALUE=DATE:20221120
DTSTAMP:20260421T093903
CREATED:20221010T191404Z
LAST-MODIFIED:20221010T191404Z
UID:13319-1668816000-1668902399@agrilife.org
SUMMARY:4-H Day at Sam Houston State University
DESCRIPTION:Sam Houston State University will be hosting a 4-H & FFA Day at their football game on Saturday\, November 19th. Youth can take tours and learn more about the campus life at Sam Houston\, while attending the football game at a discounted rate! USE CODE: 4HFFA Purchase tickets online at https://gobearkats.evenue.net/cgi-bin/ncommerce3/SEGetEventList?groupCode=FB-SINGLE&linkID=shsu-athletics&shopperContext=&caller=&appCode=
URL:https://agrilife.org/ftbend4h/event/4-h-day-at-sam-houston-state-university/
END:VEVENT
BEGIN:VEVENT
DTSTART;VALUE=DATE:20221119
DTEND;VALUE=DATE:20221120
DTSTAMP:20260421T093903
CREATED:20221024T192034Z
LAST-MODIFIED:20221024T192034Z
UID:13347-1668816000-1668902399@agrilife.org
SUMMARY:Central Texas 4-H Invitational Consumer Contest
DESCRIPTION:Register at https://counties.agrilife.org/mc4h/4-h-projects/consumer-decision-making/ by November 7\, 2022!
URL:https://agrilife.org/ftbend4h/event/central-texas-4-h-invitational-consumer-contest/
END:VEVENT
BEGIN:VEVENT
DTSTART;TZID=America/Chicago:20221120T120000
DTEND;TZID=America/Chicago:20221120T170000
DTSTAMP:20260421T093903
CREATED:20221031T194821Z
LAST-MODIFIED:20221031T194821Z
UID:13381-1668945600-1668963600@agrilife.org
SUMMARY:Pecan Harvest Festival
DESCRIPTION:Pecan Harvest Festival at 402 Morton Street\, Richmond TX\, 77469 12:00 PM – 5:00 PM
URL:https://agrilife.org/ftbend4h/event/pecan-harvest-festival/
END:VEVENT
BEGIN:VEVENT
DTSTART;VALUE=DATE:20221121
DTEND;VALUE=DATE:20221122
DTSTAMP:20260421T093903
CREATED:20221031T180846Z
LAST-MODIFIED:20221031T180846Z
UID:13367-1668988800-1669075199@agrilife.org
SUMMARY:Joann’s Mini Grant Application Deadline
DESCRIPTION:JOANN Fabric & Craft is helping 4-H bring more hands-on programs to local communities across the nation to inspire kids to lead lives with their hearts\, hands\, and minds. The Clovers for Kids campaign monies are now available to Texas 4-H clubs\, project groups\, and county 4-H programs through a mini-grant program. Mini-grants are designed to help build and support 4-H Fashion and Interior Design project work. This year we are excited to announce that we will be increasing the number of grants to be awarded AND an increase in the amount of the grants. This year we will offer (6) $500 mini-grants and (12) $250 mini-grants. Deadline to apply is November 21\, 2022. \nThe application must be completed online at https://bit.ly/3W7DqGV
URL:https://agrilife.org/ftbend4h/event/joanns-mini-grant-application-deadline/
END:VEVENT
BEGIN:VEVENT
DTSTART;TZID=America/Chicago:20221124T080000
DTEND;TZID=America/Chicago:20221125T170000
DTSTAMP:20260421T093903
CREATED:20211229T164043Z
LAST-MODIFIED:20211229T164043Z
UID:11596-1669276800-1669395600@agrilife.org
SUMMARY:OFFICE CLOSED - Thanksgiving
DESCRIPTION:
URL:https://agrilife.org/ftbend4h/event/office-closed-thanksgiving/
END:VEVENT
BEGIN:VEVENT
DTSTART;VALUE=DATE:20221130
DTEND;VALUE=DATE:20221201
DTSTAMP:20260421T093903
CREATED:20221031T201137Z
LAST-MODIFIED:20221031T201137Z
UID:13383-1669766400-1669852799@agrilife.org
SUMMARY:Eligibility Forms DUE
DESCRIPTION:Visit https://agrilife.org/ftbend4h/eligibility-form/ for your copy of the Fort Bend County Roundup Eligibility Form. DUE November 30th!
URL:https://agrilife.org/ftbend4h/event/eligibility-forms-due/
END:VEVENT
BEGIN:VEVENT
DTSTART;TZID=America/Chicago:20221202T160000
DTEND;TZID=America/Chicago:20221203T140000
DTSTAMP:20260421T093903
CREATED:20221024T201332Z
LAST-MODIFIED:20221024T201332Z
UID:13359-1669996800-1670076000@agrilife.org
SUMMARY:Fort Bend County 4-H Roundup
DESCRIPTION:Registration for Round up will be available November 1st – 18th 2022
URL:https://agrilife.org/ftbend4h/event/fort-bend-county-4-h-roundup/
LOCATION:Fort Bend County Extension Office\, 1402 Band Road\, Ste. 100\, Rosenberg\, TX\, 77471\, United States
END:VEVENT
BEGIN:VEVENT
DTSTART;VALUE=DATE:20221203
DTEND;VALUE=DATE:20221204
DTSTAMP:20260421T093903
CREATED:20221114T200547Z
LAST-MODIFIED:20221114T200547Z
UID:13444-1670025600-1670111999@agrilife.org
SUMMARY:Nolan County 4-H Winter Whizbang
DESCRIPTION:Register via iClays!
URL:https://agrilife.org/ftbend4h/event/nolan-county-4-h-winter-whizbang/
END:VEVENT
BEGIN:VEVENT
DTSTART;VALUE=DATE:20221205
DTEND;VALUE=DATE:20221206
DTSTAMP:20260421T093903
CREATED:20221024T194826Z
LAST-MODIFIED:20221024T194826Z
UID:13350-1670198400-1670284799@agrilife.org
SUMMARY:Early Bird Registration Southern Classic Youth Livestock Project Experience
DESCRIPTION:Register at https://walker.agrilife.org/4h/southern-classic-registration/
URL:https://agrilife.org/ftbend4h/event/early-bird-registration-southern-classic-youth-livestock-project-experience/
END:VEVENT
BEGIN:VEVENT
DTSTART;VALUE=DATE:20221206
DTEND;VALUE=DATE:20221212
DTSTAMP:20260421T093903
CREATED:20221024T194947Z
LAST-MODIFIED:20221024T195056Z
UID:13353-1670284800-1670803199@agrilife.org
SUMMARY:Registration Southern Classic Youth Livestock Project Experience
DESCRIPTION:Register at https://walker.agrilife.org/4h/southern-classic-registration/ or on-site through December 11th.
URL:https://agrilife.org/ftbend4h/event/registration-southern-classic-youth-livestock-project-experience/
END:VEVENT
BEGIN:VEVENT
DTSTART;TZID=America/Chicago:20221208T180000
DTEND;TZID=America/Chicago:20221208T180000
DTSTAMP:20260421T093903
CREATED:20221121T175000Z
LAST-MODIFIED:20221121T175114Z
UID:13448-1670522400-1670522400@agrilife.org
SUMMARY:D-9 Scholarship Workshop and Q&A via Microsoft Teams
DESCRIPTION:Join District 9 for a Scholarship Workshop and Q&A December 8\, 2022 at 6:00 PM via Microsoft Teams Click here to join the meeting
URL:https://agrilife.org/ftbend4h/event/d-9-scholarship-workshop-and-qa-via-microsoft-teams/
LOCATION:Virtual
END:VEVENT
BEGIN:VEVENT
DTSTART;VALUE=DATE:20221209
DTEND;VALUE=DATE:20221212
DTSTAMP:20260421T093903
CREATED:20221024T195228Z
LAST-MODIFIED:20221024T195228Z
UID:13356-1670544000-1670803199@agrilife.org
SUMMARY:Southern Classic Youth Livestock Project Experience
DESCRIPTION:
URL:https://agrilife.org/ftbend4h/event/southern-classic-youth-livestock-project-experience/
END:VEVENT
BEGIN:VEVENT
DTSTART;VALUE=DATE:20221212
DTEND;VALUE=DATE:20221213
DTSTAMP:20260421T093903
CREATED:20221107T203433Z
LAST-MODIFIED:20221107T203433Z
UID:13423-1670803200-1670889599@agrilife.org
SUMMARY:2023 Houston Livestock Show Trailblazer Committee 3rd Annual Writing Competition for 4th Grade Youth Entry Deadline
DESCRIPTION:For more information visit https://www.rodeohouston.com/Get-Involved/Exhibitors-Participants/Writing-Competition \n 
URL:https://agrilife.org/ftbend4h/event/2023-houston-livestock-show-trailblazer-committee-3rd-annual-writing-competition-for-4th-grade-youth-entry-deadline/
END:VEVENT
BEGIN:VEVENT
DTSTART;TZID=America/Chicago:20221213T183000
DTEND;TZID=America/Chicago:20221213T203000
DTSTAMP:20260421T093903
CREATED:20221024T201756Z
LAST-MODIFIED:20221024T201756Z
UID:13362-1670956200-1670963400@agrilife.org
SUMMARY:Shooting Sports Contest Prep 101
DESCRIPTION:Details Coming Soon!
URL:https://agrilife.org/ftbend4h/event/shooting-sports-contest-prep-101/
LOCATION:Fort Bend County Extension Office\, 1402 Band Road\, Ste. 100\, Rosenberg\, TX\, 77471\, United States
END:VEVENT
BEGIN:VEVENT
DTSTART;VALUE=DATE:20221215
DTEND;VALUE=DATE:20221216
DTSTAMP:20260421T093903
CREATED:20221114T195014Z
LAST-MODIFIED:20221114T195014Z
UID:13439-1671062400-1671148799@agrilife.org
SUMMARY:Texas 4-H Natural Resources Photography Contest
DESCRIPTION:Register through https://v2.4honline.com/#/user/sign-in by December 15\, 2022.
URL:https://agrilife.org/ftbend4h/event/texas-4-h-natural-resources-photography-contest/
END:VEVENT
END:VCALENDAR