BEGIN:VCALENDAR
VERSION:2.0
PRODID:-//Fort Bend 4-H - ECPv6.15.20//NONSGML v1.0//EN
CALSCALE:GREGORIAN
METHOD:PUBLISH
X-ORIGINAL-URL:https://agrilife.org/ftbend4h
X-WR-CALDESC:Events for Fort Bend 4-H
REFRESH-INTERVAL;VALUE=DURATION:PT1H
X-Robots-Tag:noindex
X-PUBLISHED-TTL:PT1H
BEGIN:VTIMEZONE
TZID:America/Chicago
BEGIN:DAYLIGHT
TZOFFSETFROM:-0600
TZOFFSETTO:-0500
TZNAME:CDT
DTSTART:20190310T080000
END:DAYLIGHT
BEGIN:STANDARD
TZOFFSETFROM:-0500
TZOFFSETTO:-0600
TZNAME:CST
DTSTART:20191103T070000
END:STANDARD
BEGIN:DAYLIGHT
TZOFFSETFROM:-0600
TZOFFSETTO:-0500
TZNAME:CDT
DTSTART:20200308T080000
END:DAYLIGHT
BEGIN:STANDARD
TZOFFSETFROM:-0500
TZOFFSETTO:-0600
TZNAME:CST
DTSTART:20201101T070000
END:STANDARD
BEGIN:DAYLIGHT
TZOFFSETFROM:-0600
TZOFFSETTO:-0500
TZNAME:CDT
DTSTART:20210314T080000
END:DAYLIGHT
BEGIN:STANDARD
TZOFFSETFROM:-0500
TZOFFSETTO:-0600
TZNAME:CST
DTSTART:20211107T070000
END:STANDARD
END:VTIMEZONE
BEGIN:VEVENT
DTSTART;TZID=America/Chicago:20200703T080000
DTEND;TZID=America/Chicago:20200703T170000
DTSTAMP:20260420T005134
CREATED:20200417T163527Z
LAST-MODIFIED:20200417T170303Z
UID:7213-1593763200-1593795600@agrilife.org
SUMMARY:Independence Day Observed - OFFICE CLOSED
DESCRIPTION:
URL:https://agrilife.org/ftbend4h/event/independence-day-observed-office-closed/
LOCATION:Fort Bend County Extension Office\, 1402 Band Road\, Ste. 100\, Rosenberg\, TX\, 77471\, United States
END:VEVENT
BEGIN:VEVENT
DTSTART;TZID=America/Chicago:20200706T170000
DTEND;TZID=America/Chicago:20200706T170000
DTSTAMP:20260420T005134
CREATED:20200619T204336Z
LAST-MODIFIED:20200619T204336Z
UID:7456-1594054800-1594054800@agrilife.org
SUMMARY:2020 Virtual National Qualifier Contest DEADLINE
DESCRIPTION:https://texas4-h.tamu.edu/events/qualifier/  \nThe overall contest guidelines have been posted along with a schedule of the contest. Registration on 4-H CONNECT will open Monday\, June 22 and close on July 6. NO LATE ENTRIES WILL BE ACCEPTED AFTER THIS TIME.  For those contest with team structures\, we will not require the team composition at the time of entry. We will reach out to the county offices to provide team makeup one week prior to the contest dates. This will allow for counties with more than one team\, time to host practices to determine their teams. See the General Contest Rules for more details regarding team composition. \nThe details of the specific contest related to format changes due to the virtual platform will be posted soon as well. We are working to finalize those details\, but feel that youth will hopefully be excited we are offering the opportunities no matter the contest’s new structure. We are working to keep the contest as close to a traditional event but at the same time modifying to fit the virtual platform needs.
URL:https://agrilife.org/ftbend4h/event/2020-virtual-national-qualifier-contest-deadline/
LOCATION:4-H Online
END:VEVENT
BEGIN:VEVENT
DTSTART;TZID=America/Chicago:20200706T170000
DTEND;TZID=America/Chicago:20200706T170000
DTSTAMP:20260420T005134
CREATED:20200629T214250Z
LAST-MODIFIED:20200629T220450Z
UID:7471-1594054800-1594054800@agrilife.org
SUMMARY:Ride with Us! Online
DESCRIPTION:Howdy! \nYouth simply submit a 2-5 minute video (https://agrilife.az1.qualtrics.com/jfe/form/SV_1Xi0beEA3Wba4gl) of themselves riding with information about what they want to learn/improve and a Texas A&M Summer Horsemanship School instructor will reply with useful training tips and feedback. Great practice for the upcoming State 4-H Horse Show!
URL:https://agrilife.org/ftbend4h/event/ride-with-us-online/
LOCATION:TX
END:VEVENT
BEGIN:VEVENT
DTSTART;TZID=America/Chicago:20200707T100000
DTEND;TZID=America/Chicago:20200709T140000
DTSTAMP:20260420T005134
CREATED:20200609T220245Z
LAST-MODIFIED:20200609T220257Z
UID:7430-1594116000-1594303200@agrilife.org
SUMMARY:Mindfulness 4-Health Retreat
DESCRIPTION:
URL:https://agrilife.org/ftbend4h/event/mindfulness-4-health-retreat/
LOCATION:Fort Bend County Extension Office\, 1402 Band Road\, Ste. 100\, Rosenberg\, TX\, 77471\, United States
END:VEVENT
BEGIN:VEVENT
DTSTART;TZID=America/Chicago:20200710T170000
DTEND;TZID=America/Chicago:20200710T170000
DTSTAMP:20260420T005134
CREATED:20200604T174736Z
LAST-MODIFIED:20200604T211257Z
UID:7410-1594400400-1594400400@agrilife.org
SUMMARY:4-H Parent & Volunteer Appreciation Dinner RSVP DEADLINE
DESCRIPTION:
URL:https://agrilife.org/ftbend4h/event/appreciation-dinner-rsvp-deadline/
LOCATION:TX
END:VEVENT
BEGIN:VEVENT
DTSTART;TZID=America/Chicago:20200712T080000
DTEND;TZID=America/Chicago:20200715T170000
DTSTAMP:20260420T005134
CREATED:20191231T160115Z
LAST-MODIFIED:20191231T160115Z
UID:6867-1594540800-1594832400@agrilife.org
SUMMARY:Texas 4-H Congress 2020
DESCRIPTION:Time to get a jump start on writing bills to be discussed and debated during Texas 4-H Congress.  Anyone can write and submit bills regardless of Congress participation.  Registration is not yet open\, nor has information been distributed. \nOnce you have an idea and want to begin inputting the information in the system\, the following link will take you to the appropriate site.  https://fs4.formsite.com/state4h/bill2020/form_login.html  After creating a login\, members should follow the on-screen prompts. \nCommittees are a bit different this year and will include an Agriculture and Livestock focused committee.  The committee structure for Texas 4-H Congress 2020 follows. \n\nAgriculture and Livestock (AGL)\nEducation (EDU)\nEnergy and Environment (EEV)\nGovernment\, Finance\, & Appropriations (GFA)\nHomeland Security and Public Safety (HPS)\nJudiciary and Juvenile Justice (JJJ)\nPublic Health & Welfare (PHW)\n\nWe anticipate an exciting time in Austin as 4-H members gather to discuss and debate issues that impact Texans during Texas 4-H Congress.  Our event is scheduled for July 12-15\, 2020. \nClick here to download the guidelines for submitting a bill!
URL:https://agrilife.org/ftbend4h/event/texas-4-h-congress-2020/
LOCATION:TX
END:VEVENT
BEGIN:VEVENT
DTSTART;TZID=America/Chicago:20200714T093000
DTEND;TZID=America/Chicago:20200714T113000
DTSTAMP:20260420T005134
CREATED:20200715T220147Z
LAST-MODIFIED:20200715T220147Z
UID:7523-1594719000-1594726200@agrilife.org
SUMMARY:Texas 4-H STEM Camp Experience (1 of 6)
DESCRIPTION:
URL:https://agrilife.org/ftbend4h/event/texas-4-h-stem-camp-experience-1-of-6/
LOCATION:TX
END:VEVENT
BEGIN:VEVENT
DTSTART;TZID=America/Chicago:20200715T190000
DTEND;TZID=America/Chicago:20200715T200000
DTSTAMP:20260420T005134
CREATED:20200604T174626Z
LAST-MODIFIED:20200715T215413Z
UID:7408-1594839600-1594843200@agrilife.org
SUMMARY:4-H Parent & Volunteer Meeting
DESCRIPTION:ZOOM Meeting at 7:00 p.m. Meeting ID:  84064110583 Password:  381573 \n  \n\n  \n 
URL:https://agrilife.org/ftbend4h/event/appreciation-dinner/
LOCATION:Fort Bend County Fairgrounds\, Bldg. D\, 4310 TX-36\, Rosenberg\, TX\, 77471\, United States
END:VEVENT
BEGIN:VEVENT
DTSTART;TZID=America/Chicago:20200716T093000
DTEND;TZID=America/Chicago:20200716T113000
DTSTAMP:20260420T005134
CREATED:20200715T220247Z
LAST-MODIFIED:20200715T220247Z
UID:7527-1594891800-1594899000@agrilife.org
SUMMARY:Texas 4-H STEM Camp Experience (2 of 6)
DESCRIPTION:
URL:https://agrilife.org/ftbend4h/event/texas-4-h-stem-camp-experience-2-of-6/
LOCATION:TX
END:VEVENT
BEGIN:VEVENT
DTSTART;TZID=America/Chicago:20200716T190000
DTEND;TZID=America/Chicago:20200716T200000
DTSTAMP:20260420T005134
CREATED:20200625T192005Z
LAST-MODIFIED:20200715T215455Z
UID:7465-1594926000-1594929600@agrilife.org
SUMMARY:County Council Ice Cream Social
DESCRIPTION:7:00 PM – Meeting ID : 894 7798 3319 Password:691957 – RSVP below
URL:https://agrilife.org/ftbend4h/event/county-council-ice-cream-social/
LOCATION:Extension TTVN/Conference Room\, 1402 Band Road\, Ste. 100\, Rosenberg\, TX\, 77471\, United States
END:VEVENT
BEGIN:VEVENT
DTSTART;TZID=America/Chicago:20200717T170000
DTEND;TZID=America/Chicago:20200717T170000
DTSTAMP:20260420T005134
CREATED:20200716T174445Z
LAST-MODIFIED:20200716T174445Z
UID:7537-1595005200-1595005200@agrilife.org
SUMMARY:Clover Cash Grant Program DEADLINE
DESCRIPTION:https://docs.google.com/forms/d/e/1FAIpQLSfugxaz80UeveutaXr2A2aDpT3AZZ_2PwH5q5A0uEVLT8FZCA/viewform
URL:https://agrilife.org/ftbend4h/event/clover-cash-grant-program-deadline/
LOCATION:TX
END:VEVENT
BEGIN:VEVENT
DTSTART;TZID=America/Chicago:20200719T080000
DTEND;TZID=America/Chicago:20200725T170000
DTSTAMP:20260420T005134
CREATED:20200514T211121Z
LAST-MODIFIED:20200602T131842Z
UID:7300-1595145600-1595696400@agrilife.org
SUMMARY:State 4-H Horse Show
DESCRIPTION:State Horse Show Information \n\nAs of right now the State 4-H Horse Show has not been cancelled. It is our understanding that more directives will be coming from the Governor’s office and AgriLife Extension after May 18th.  If a cancellation becomes necessary we will communicate that to you as soon as possible.\nIn the event that the State 4-H Horse Show cannot be held as planned\, then we will offer a virtual show that youth can choose to participate in if they wish.  We fully realize that a virtual show is not the same as an in-person show; however\, it will afford the youth a chance to showcase the work they have put toward their projects this year\, and offer unique educational components.  If a virtual show is deemed necessary\, then we will be sending out instructions on registration\, rules\, classes\, etc.  A validated horse will still be required to participate in the virtual show.\nIn the event that district and/or state shows cannot proceed as planned\, then families will be given the option to request a refund of their validation fees.  More details about how this will be accomplished will be made available if cancellations are deemed necessary\, and when the best refund process has been identified.\nDistrict show qualification requirements for the state show will be waived for this year.\n\nhttps://animalscience.tamu.edu/livestock-species/equine/state-4h-show/
URL:https://agrilife.org/ftbend4h/event/state-4-h-horse-show-2/
LOCATION:TX
END:VEVENT
BEGIN:VEVENT
DTSTART;TZID=America/Chicago:20200720T080000
DTEND;TZID=America/Chicago:20200724T170000
DTSTAMP:20260420T005134
CREATED:20200715T215617Z
LAST-MODIFIED:20200715T215722Z
UID:7517-1595232000-1595610000@agrilife.org
SUMMARY:FBC 4-H STEM Lab Week
DESCRIPTION:
URL:https://agrilife.org/ftbend4h/event/stem-lab-week/
LOCATION:TX
END:VEVENT
BEGIN:VEVENT
DTSTART;TZID=America/Chicago:20200721T093000
DTEND;TZID=America/Chicago:20200721T113000
DTSTAMP:20260420T005134
CREATED:20200715T220344Z
LAST-MODIFIED:20200715T220344Z
UID:7529-1595323800-1595331000@agrilife.org
SUMMARY:Texas 4-H STEM Camp Experience (3 of 6)
DESCRIPTION:
URL:https://agrilife.org/ftbend4h/event/texas-4-h-stem-camp-experience-3-of-6/
LOCATION:TX
END:VEVENT
BEGIN:VEVENT
DTSTART;TZID=America/Chicago:20200723T093000
DTEND;TZID=America/Chicago:20200723T113000
DTSTAMP:20260420T005134
CREATED:20200715T220415Z
LAST-MODIFIED:20200715T220415Z
UID:7531-1595496600-1595503800@agrilife.org
SUMMARY:Texas 4-H STEM Camp Experience (4 of 6)
DESCRIPTION:
URL:https://agrilife.org/ftbend4h/event/texas-4-h-stem-camp-experience-4-of-6/
LOCATION:TX
END:VEVENT
BEGIN:VEVENT
DTSTART;TZID=America/Chicago:20200724T080000
DTEND;TZID=America/Chicago:20200726T170000
DTSTAMP:20260420T005134
CREATED:20200716T174651Z
LAST-MODIFIED:20200716T174713Z
UID:7540-1595577600-1595782800@agrilife.org
SUMMARY:California State Leadership Conference via ZOOM
DESCRIPTION:Register at ucanr.edu/4Hslc
URL:https://agrilife.org/ftbend4h/event/california-state-leadership-conference-via-zoom/
LOCATION:TX
END:VEVENT
BEGIN:VEVENT
DTSTART;TZID=America/Chicago:20200726T170000
DTEND;TZID=America/Chicago:20200726T170000
DTSTAMP:20260420T005134
CREATED:20200615T205125Z
LAST-MODIFIED:20200615T205125Z
UID:7436-1595782800-1595782800@agrilife.org
SUMMARY:4-H Shooting Sports Ambassador DEADLINE
DESCRIPTION:The Texas 4-H Shooting Sports Ambassador applications will be up on 4-H Connect beginning Tuesday June 16\, 2020.  All applicants must read the Basic requirements and expectations before they apply.  I have attached the document here\, and it is posted on our webpage under “Resources” then click the link “2020-2021 Ambassador Program Basic Requirements and Expectations”. \nThe link to our webpage is: https://texas4-h.tamu.edu/projects/shooting-sports/ \nClick here to view the announcement letter!
URL:https://agrilife.org/ftbend4h/event/4-h-shooting-sports-ambassador-deadline/
LOCATION:TX
END:VEVENT
BEGIN:VEVENT
DTSTART;TZID=America/Chicago:20200728T093000
DTEND;TZID=America/Chicago:20200728T113000
DTSTAMP:20260420T005134
CREATED:20200715T220502Z
LAST-MODIFIED:20200715T220502Z
UID:7533-1595928600-1595935800@agrilife.org
SUMMARY:Texas 4-H STEM Camp Experience (5 of 6)
DESCRIPTION:
URL:https://agrilife.org/ftbend4h/event/texas-4-h-stem-camp-experience-5-of-6/
LOCATION:TX
END:VEVENT
BEGIN:VEVENT
DTSTART;TZID=America/Chicago:20200730T093000
DTEND;TZID=America/Chicago:20200730T113000
DTSTAMP:20260420T005134
CREATED:20200715T220531Z
LAST-MODIFIED:20200715T220555Z
UID:7535-1596101400-1596108600@agrilife.org
SUMMARY:Texas 4-H STEM Camp Experience (6 of 6)
DESCRIPTION:
URL:https://agrilife.org/ftbend4h/event/texas-4-h-stem-camp-experience-6-of-6/
LOCATION:TX
END:VEVENT
BEGIN:VEVENT
DTSTART;TZID=America/Chicago:20200731T170000
DTEND;TZID=America/Chicago:20200731T170000
DTSTAMP:20260420T005134
CREATED:20200629T200410Z
LAST-MODIFIED:20200629T200410Z
UID:7468-1596214800-1596214800@agrilife.org
SUMMARY:Texas 4-H STEM Ambassador DEADLINE
DESCRIPTION:Online applications for the 2020-2021 Texas 4-H STEM Ambassador team will be open July 1 through July 31. Click here to view flyer! \nApplication link:  https://texas4-hyouthdevelopment.submittable.com/submit  The application will activate on July 1.  Applicants will need to create a simple profile on Submittable in order to complete the application. \nMission \nAs STEM Ambassadors\, our mission is to educate communities about science\, technology\, engineering\, and math opportunities; both inside and outside of 4-H\, while learning essential skills in STEM\, communication\, and teamwork. \nEligibility for New Members \nIndividuals must: \n\nBe in at least the 9th grade\nBe an active 4-H member or 4-H Adult volunteer for the 2019-2020 year\, a former Tech Team member now in college\, or Extension employee\nComplete and submit application by July 31\, 2019\nHave a willingness to learn about STEM\nBe willing to work collaboratively on a team with other youth and adults\nBe responsive and engaged in team communications\nShare knowledge and skills with others\nNot serving on the 2020-21 Texas 4-H Council\n\nTo Apply \nIndividuals must complete the online application\, which includes the following sections: \n\nOverview and Expectations\nPersonal Information\nTechnology Access & Communication\nLeadership and Teamwork\nExperience and Future Areas of Interest\nTechnology Experience Essay\nPersonal Video Narrative*\nLetters of Recommendation**\nAcknowledgement and Agreement\n\n* Youth applicants will need to record a personal 2-3 minute video reflecting “who you are and what you do”. The video must be uploaded on Submittable or published to YouTube and the link shared on the application. \n** Youth applicants will need to secure two letters as part of the application. \nTimeline \nJuly 1 – Applications open\nJuly 31 – Applications close (no extensions or exceptions will be made)\nAugust 1-29 – Submitted applications will be reviewed\nAugust 30 – Applicants will be notified of acceptance\nOctober 9-11 – Required training for new and returning members (dependent upon COVID-19 guidelines)\nApril 16-18 – Required training (dependent upon COVID-19 guidelines)
URL:https://agrilife.org/ftbend4h/event/texas-4-h-stem-ambassador-deadline/
LOCATION:TX
END:VEVENT
BEGIN:VEVENT
DTSTART;TZID=America/Chicago:20200801T160000
DTEND;TZID=America/Chicago:20200801T160000
DTSTAMP:20260420T005134
CREATED:20200716T182823Z
LAST-MODIFIED:20200716T182823Z
UID:7549-1596297600-1596297600@agrilife.org
SUMMARY:KY 4-H Virtual Dog Show DEADLINE
DESCRIPTION:Info: https://4-h.ca.uky.edu/files/virtual_show.pdf \nMain: https://4-h.ca.uky.edu/virtualdogshow
URL:https://agrilife.org/ftbend4h/event/ky-4-h-virtual-dog-show-deadline/
LOCATION:TX
END:VEVENT
BEGIN:VEVENT
DTSTART;TZID=America/Chicago:20200802T120000
DTEND;TZID=America/Chicago:20200802T170000
DTSTAMP:20260420T005134
CREATED:20200727T195530Z
LAST-MODIFIED:20200727T195530Z
UID:7588-1596369600-1596387600@agrilife.org
SUMMARY:4-H Awards Banquet - Virtual/Drive-thru Ceremony
DESCRIPTION:
URL:https://agrilife.org/ftbend4h/event/4-h-awards-banquet-virtual-drive-thru-ceremony/
LOCATION:TX
END:VEVENT
BEGIN:VEVENT
DTSTART;TZID=America/Chicago:20200809T163000
DTEND;TZID=America/Chicago:20200809T173000
DTSTAMP:20260420T005134
CREATED:20200716T183734Z
LAST-MODIFIED:20200716T183734Z
UID:7565-1596990600-1596994200@agrilife.org
SUMMARY:School Supply Drive (Drop-Off Day)
DESCRIPTION:Click here to download a printable version!
URL:https://agrilife.org/ftbend4h/event/school-supply-drive-drop-off-day/
LOCATION:Needville Youth Fairgrounds\, 13631 Highway 36\, Needville\, TX\, 77461\, United States
END:VEVENT
BEGIN:VEVENT
DTSTART;TZID=America/Chicago:20200811T093000
DTEND;TZID=America/Chicago:20200811T103000
DTSTAMP:20260420T005134
CREATED:20200805T185117Z
LAST-MODIFIED:20200805T185135Z
UID:7617-1597138200-1597141800@agrilife.org
SUMMARY:Texas 4-H Food Show Guidelines Training
DESCRIPTION:August 11TH – Texas 4-H Food Show Guideline Training at 9:30 Join Microsoft Teams Meeting
URL:https://agrilife.org/ftbend4h/event/texas-4-h-food-show-guidelines-training/
LOCATION:TX
END:VEVENT
BEGIN:VEVENT
DTSTART;TZID=America/Chicago:20200814T080000
DTEND;TZID=America/Chicago:20200815T170000
DTSTAMP:20260420T005134
CREATED:20200729T143128Z
LAST-MODIFIED:20200811T154605Z
UID:7599-1597392000-1597510800@agrilife.org
SUMMARY:Texas Sheep and Goat Expo
DESCRIPTION:Texas Sheep and Goat Expo Register at https://agrilife.org/agrilifesheepandgoat/
URL:https://agrilife.org/ftbend4h/event/texas-sheep-and-goat-expo/
LOCATION:TX
END:VEVENT
BEGIN:VEVENT
DTSTART;TZID=America/Chicago:20200814T200000
DTEND;TZID=America/Chicago:20200814T233000
DTSTAMP:20260420T005134
CREATED:20200716T183810Z
LAST-MODIFIED:20200716T183810Z
UID:7569-1597435200-1597447800@agrilife.org
SUMMARY:School Supply Drive (Drop-Off Day)
DESCRIPTION:Click here to download a printable version!
URL:https://agrilife.org/ftbend4h/event/school-supply-drive-drop-off-day-2/
LOCATION:Needville Youth Fairgrounds\, 13631 Highway 36\, Needville\, TX\, 77461\, United States
END:VEVENT
BEGIN:VEVENT
DTSTART;TZID=America/Chicago:20200815T080000
DTEND;TZID=America/Chicago:20200815T080000
DTSTAMP:20260420T005134
CREATED:20200727T195605Z
LAST-MODIFIED:20200727T195605Z
UID:7590-1597478400-1597478400@agrilife.org
SUMMARY:4-H Enrollment Opens in 4-H Connect
DESCRIPTION:
URL:https://agrilife.org/ftbend4h/event/4-h-enrollment-opens-in-4-h-connect/
LOCATION:4-H Online
END:VEVENT
BEGIN:VEVENT
DTSTART;TZID=America/Chicago:20200818T093000
DTEND;TZID=America/Chicago:20200818T103000
DTSTAMP:20260420T005134
CREATED:20200805T185230Z
LAST-MODIFIED:20200805T185246Z
UID:7619-1597743000-1597746600@agrilife.org
SUMMARY:Texas 4-H Food Challenge Guidelines Training
DESCRIPTION:August 18TH – Texas 4-H Food Challenge Guideline Training at 9:30 AM Join Microsoft Teams Meeting
URL:https://agrilife.org/ftbend4h/event/texas-4-h-food-challenge-guidelines-training/
LOCATION:TX
END:VEVENT
BEGIN:VEVENT
DTSTART;TZID=America/Chicago:20200819T080000
DTEND;TZID=America/Chicago:20200819T170000
DTSTAMP:20260420T005134
CREATED:20200716T183017Z
LAST-MODIFIED:20200716T183017Z
UID:7552-1597824000-1597856400@agrilife.org
SUMMARY:Texas 4-H Virtual Summit
DESCRIPTION:
URL:https://agrilife.org/ftbend4h/event/texas-4-h-virtual-summit-2/
LOCATION:TX
END:VEVENT
BEGIN:VEVENT
DTSTART;TZID=America/Chicago:20200820T190000
DTEND;TZID=America/Chicago:20200820T200000
DTSTAMP:20260420T005134
CREATED:20200727T195716Z
LAST-MODIFIED:20200727T200026Z
UID:7592-1597950000-1597953600@agrilife.org
SUMMARY:County Council Meeting
DESCRIPTION:Meeting ID :883 4666 1274 \n*See weekly reminders email for password
URL:https://agrilife.org/ftbend4h/event/county-council-meeting-5/
LOCATION:TX
END:VEVENT
END:VCALENDAR